Workbook

Sheet 福豐葷
B1: 沅益食品美味午餐 | G1: 福豐國中
G2: 114年9月菜單 | H2: 供餐年級: 年級
B3: 日期 | C3: 星期 | D3: 主食 | E3: 主菜 | F3: 美味副菜 | H3: 蔬菜 | I3: 湯品 | J3: 附餐 | K3: 全榖雜糧 | L3: 豆魚蛋肉 | M3: 蔬菜類 | N3: 油脂類 | O3: 熱量
B4: 45901 | C4: 一 | D4: 白飯 | E4: 蒙古烤肉 | F4: 腰果干丁 | G4: 桑耳黃瓜 | H4: 履歷蔬菜 | I4: 金針肉絲湯 | K4: 6.5 | L4: 2.8 | M4: 2.1 | N4: 2.8 | O4: =K4*70+L4*75+M4*25+N4*45 -> 843.5
E5: 炒:肉片S.洋蔥Q.綠豆芽Q | F5: 炒:豆干.毛豆Q.腰果 | G5: 炒:大黃瓜Q.紅蘿蔔Q.木耳Q | I5: 乾金針.金針菇Q.肉絲S
B6: 45902 | C6: 二 | D6: 麥片飯 | E6: 醬燒魚丁 | F6: 紅絲炒蛋 | G6: 肉燥淋高麗 | H6: 有機蔬菜 | I6: 蘿蔔丸子湯 | K6: 6.7 | L6: 2.8 | M6: 2.1 | N6: 2.8 | O6: =K6*70+L6*75+M6*25+N6*45 -> 857.5
E7: 煮:鯊魚丁Q.豆腐.甜椒Q | F7: 炒:紅蘿蔔Q.蛋Q.洋蔥Q | G7: 煮:高麗菜Q.絞肉S | I7: 白蘿蔔Q.丸子Q.芹Q
B8: 45903 | C8: 三 | D8: 香蔥 蛋炒飯 | E8: 炸鹹酥雞 | F8: 西魯肉 | G8: 蒜泥素雞 | H8: 季節蔬菜 | I8: 綠豆小薏仁 | K8: 6.7 | L8: 2.7 | M8: 2.2 | N8: 2.7 | O8: =K8*70+L8*75+M8*25+N8*45 -> 848
E9: 炸:雞肉T | F9: 燒:大白菜Q.紅蘿蔔Q.肉絲S.蝦米.乾香菇 | G9: 燒:素雞 | I9: 綠豆.小薏仁.QQ
B10: 45904 | C10: 四 | D10: 白飯 | E10: 日式燉肉 | F10: 敏豆肉絲 | G10: 肉末冬粉 | H10: 有機蔬菜 | I10: 小魚豆腐湯 | K10: 6.8 | L10: 2.8 | M10: 2.1 | N10: 2.7 | O10: =K10*70+L10*75+M10*25+N10*45 -> 860
E11: 燉:肉丁S.洋芋Q.紅蘿蔔Q | F11: 炒:敏豆Q.肉絲S.甜椒Q | G11: 炒:冬粉.高麗菜Q.木耳Q.紅蘿蔔Q.絞肉S | I11: 豆腐.小魚干.味噌
B12: 45905 | C12: 五 | D12: 紫米飯 | E12: 塔香雞丁 | F12: 海帶干絲 | G12: 冬瓜麵筋 | H12: 有機蔬菜 | I12: 玉米蛋花湯 | K12: 6.8 | L12: 2.7 | M12: 2.2 | N12: 2.8 | O12: =K12*70+L12*75+M12*25+N12*45 -> 859.5
E13: 燒:雞丁S.麵腸.九層塔 | F13: 炒:白干絲.海帶絲.紅蘿蔔Q | G13: 煮:冬瓜Q.麵筋泡.水煮花生 | I13: 玉米Q.蛋Q.紅蘿蔔Q
B14: 45908 | C14: 一 | D14: 小米飯 | E14: 黑胡椒肉片 | F14: 麻婆豆腐 | G14: 芋香白菜 | H14: 履歷蔬菜 | I14: 黃芽肉絲湯 | K14: 6.7 | L14: 2.8 | M14: 2.1 | N14: 2.8 | O14: =K14*70+L14*75+M14*25+N14*45 -> 857.5
E15: 炒:肉片S.洋蔥Q.紅蘿蔔Q | F15: 炒:豆腐.絞肉S | G15: 炒:大白菜Q.木耳Q.紅蘿蔔Q.芋頭Q | I15: 黃豆芽Q.肉絲Q.紅蘿蔔Q
B16: 45909 | C16: 二 | D16: 白飯 | E16: 椰香咖哩魚 | F16: 筍炒肉片 | G16: 銀羅滷豆干 | H16: 有機蔬菜 | I16: 海芽蛋花湯 | K16: 6.7 | L16: 2.8 | M16: 2.1 | N16: 2.8 | O16: =K16*70+L16*75+M16*25+N16*45 -> 857.5
E17: 煮:鯰魚丁Q.洋芋Q.紅蘿蔔Q.洋蔥Q | F17: 炒:筍.肉片S.紅蘿蔔Q | G17: 滷:白蘿蔔Q.豆干 | I17: 海帶芽.蛋Q
B18: 45910 | C18: 三 | D18: 白醬 蕈菇義麵 | E18: 香草雞腿排 | F18: 香Q芋泥包 | G18: 蒜香花椰菜 | H18: 季節蔬菜 | I18: 冬瓜山粉圓 | K18: 6.9 | L18: 2.7 | M18: 2 | N18: 2.7 | O18: =K18*70+L18*75+M18*25+N18*45 -> 857
E19: 滷:雞排S | F19: 蒸:芋泥包S | G19: 炒:花椰菜Q.紅蘿蔔Q | I19: 山粉圓.粉條.冬瓜糖
B20: 45911 | C20: 四 | D20: 白飯 | E20: 糖醋排骨 | F20: 珍珠洋芋 | G20: 椒鹽甜不辣 | H20: 有機蔬菜 | I20: 蔬菜肉片湯 | K20: 6.6 | L20: 2.8 | M20: 2 | N20: 2.7 | O20: =K20*70+L20*75+M20*25+N20*45 -> 843.5
E21: 炸.燒:肉丁S.排骨丁S.洋蔥Q | F21: 炒:玉米Q.洋芋Q.紅蘿蔔Q.毛豆Q | G21: 炒:甜不辣Q.芹Q | I21: 高麗菜Q.香菇Q.肉片S
B22: 45912 | C22: 五 | D22: 五穀飯 | E22: 三杯雞 | F22: 番茄炒蛋 | G22: 清炒甜薯 | H22: 有機蔬菜 | I22: 南瓜濃湯 | K22: 6.8 | L22: 2.7 | M22: 2.1 | N22: 2.8 | O22: =K22*70+L22*75+M22*25+N22*45 -> 857
E23: 炒:雞丁S.米血糕S.九層塔 | F23: 炒:番茄Q.蛋Q.洋蔥Q | G23: 炒:涼薯Q.紅蘿蔔Q.木耳Q | I23: 南瓜Q.玉米Q.洋蔥Q
B24: 45915 | C24: 一 | D24: 白飯 | E24: 蔥油手絲雞 | F24: 客家小炒 | G24: 鐵板豆芽 | H24: 履歷蔬菜 | I24: 黃瓜肉片湯 | K24: 6.7 | L24: 2.8 | M24: 2.1 | N24: 2.8 | O24: =K24*70+L24*75+M24*25+N24*45 -> 857.5
E25: 炒:雞肉T | F25: 炒:豆干片.芹Q.肉絲S | G25: 炒:綠豆芽Q.韭菜Q.紅蘿蔔Q | I25: 大黃瓜Q.肉片S
B26: 45916 | C26: 二 | D26: 糙米飯 | E26: 百香果肉丁 | F26: 冬瓜肉燥 | G26: 芝香敏豆 | H26: 有機蔬菜 | I26: 酸辣湯 | K26: 6.6 | L26: 2.8 | M26: 2.2 | N26: 2.9 | O26: =K26*70+L26*75+M26*25+N26*45 -> 857.5
E27: 燒:肉丁S.洋蔥Q.甜椒Q | F27: 炒:冬瓜Q.絞肉S | G27: 炒:敏豆Q.紅蘿蔔Q.芝麻 | I27: 筍絲.木耳Q.紅蘿蔔Q.豆腐.肉絲S
B28: 45917 | C28: 三 | D28: 古早味 肉燥飯 | E28: 紅燒雞翅 | F28: 三色燴海鮮卷 | G28: 鮮肉絲瓜 | H28: 季節蔬菜 | I28: 芋香西米露 | K28: 6.7 | L28: 2.7 | M28: 2.1 | N28: 2.9 | O28: =K28*70+L28*75+M28*25+N28*45 -> 854.5
E29: 滷:雞翅S | F29: 燴:海鮮卷S.三色S.蛋Q | G29: 炒:絲瓜Q.肉片S.紅蘿蔔Q | I29: 芋頭Q.西谷米.奶粉
B30: 45918 | C30: 四 | D30: 紅藜飯 | E30: 砂鍋魚丁 | F30: 甜玉米炒蛋 | G30: 清炒高麗 | H30: 有機蔬菜 | I30: 海結肉絲湯 | K30: 6.7 | L30: 2.7 | M30: 2.1 | N30: 2.8 | O30: =K30*70+L30*75+M30*25+N30*45 -> 850
E31: 煮:鯊魚丁Q.大白菜Q.紅蘿蔔Q.豆皮 | F31: 炒:玉米Q.洋蔥Q.蛋Q | G31: 炒:高麗菜Q.木耳Q | I31: 海帶結.肉絲S
B32: 45919 | C32: 五 | D32: 白飯 | E32: 花雕雞 | F32: 關東煮 | G32: 椒香洋芋絲 | H32: 有機蔬菜 | I32: 味噌湯 | K32: 6.8 | L32: 2.8 | M32: 2 | N32: 2.7 | O32: =K32*70+L32*75+M32*25+N32*45 -> 857.5
E33: 煮:雞丁S.杏鮑菇Q.枸杞 | F33: 煮:白蘿蔔Q.油豆腐.黑輪Q | G33: 炒:洋芋Q.肉絲S.紅蘿蔔Q.黑胡椒 | I33: 高麗菜Q.蛋Q.味噌
B34: 45922 | C34: 一 | D34: 玉米飯 | E34: 筍干焢肉 | F34: 香芹拌干絲 | G34: 開陽佛手瓜 | H34: 履歷蔬菜 | I34: 香菇豆腐羹 | K34: 6.5 | L34: 2.8 | M34: 2.1 | N34: 2.6 | O34: =K34*70+L34*75+M34*25+N34*45 -> 834.5
E35: 滷:肉丁S.豬腳丁Q.筍干 | F35: 炒:白干絲.芹Q.紅蘿蔔Q | G35: 炒:佛手瓜Q.木耳Q.蝦米 | I35: 豆腐.肉絲S.香菇Q.紅蘿蔔Q
B36: 45923 | C36: 二 | D36: 白飯 | E36: 洋芋嫩雞 | F36: 咖哩粉絲煲 | G36: 鮮菇白菜 | H36: 有機蔬菜 | I36: 肉骨茶湯 | K36: 6.9 | L36: 2.7 | M36: 2.1 | N36: 2.7 | O36: =K36*70+L36*75+M36*25+N36*45 -> 859.5
E37: 燉:雞丁S.洋芋Q.紅蘿蔔Q | F37: 炒:冬粉.絞肉S.高麗菜Q.洋蔥Q | G37: 炒:大白菜Q.菇Q.紅蘿蔔Q | I37: 白蘿蔔Q.肉片S.蒜仁
B38: 45924 | C38: 三 | D38: 日式 炒烏龍 | E38: 秘醬豬排 | F38: 炸雞塊X2 | G38: 肉絲黃芽 | H38: 季節蔬菜 | I38: 紅豆芋圓湯 | K38: 6.9 | L38: 2.6 | M38: 2.1 | N38: 2.8 | O38: =K38*70+L38*75+M38*25+N38*45 -> 856.5
E39: 燒:豬排S | F39: 炸:雞塊S | G39: 炒:黃豆芽Q.肉絲S.木耳Q.紅蘿蔔Q | I39: 紅豆T.芋圓
B40: 45925 | C40: 四 | D40: 燕麥飯 | E40: 香滷雞腿 | F40: 香蔥菜脯蛋 | G40: 什錦大瓜 | H40: 有機蔬菜 | I40: 海帶豆腐湯 | K40: 6.7 | L40: 2.7 | M40: 2 | N40: 2.7 | O40: =K40*70+L40*75+M40*25+N40*45 -> 843
...

Sheet 福豐素
B1: 沅益食品美味午餐 | H1: 福豐國中114年8-9月素菜單
B3: 日期 | C3: 星期 | D3: 主食 | E3: 主菜 | F3: 美味副菜 | J3: 蔬菜 | K3: 湯品 | L3: 附餐 | M3: 全榖雜糧 | N3: 豆魚蛋肉 | O3: 蔬菜類 | P3: 油脂類 | Q3: 熱量
B4: =_xlfn.SINGLE(福豐葷!#REF!) -> #REF! | C4: =_xlfn.SINGLE(福豐葷!#REF!) -> #REF! | J4: =_xlfn.SINGLE(福豐葷!#REF!) -> #REF! | M4: 6.6 | N4: 2.8 | O4: 2.4 | P4: 2.6 | Q4: =M4*70+N4*75+O4*25+P4*45 -> 849
B6: =_xlfn.SINGLE(福豐葷!#REF!) -> #REF! | C6: =_xlfn.SINGLE(福豐葷!#REF!) -> #REF! | J6: =_xlfn.SINGLE(福豐葷!#REF!) -> #REF! | M6: 6.6 | N6: 2.8 | O6: 2.4 | P6: 2.6 | Q6: =M6*70+N6*75+O6*25+P6*45 -> 849
B8: =_xlfn.SINGLE(福豐葷!#REF!) -> #REF! | C8: =_xlfn.SINGLE(福豐葷!#REF!) -> #REF! | J8: =_xlfn.SINGLE(福豐葷!#REF!) -> #REF! | M8: 6.6 | N8: 2.8 | O8: 2.4 | P8: 2.6 | Q8: =M8*70+N8*75+O8*25+P8*45 -> 849
B10: =_xlfn.SINGLE(福豐葷!#REF!) -> #REF! | C10: =_xlfn.SINGLE(福豐葷!#REF!) -> #REF! | J10: =_xlfn.SINGLE(福豐葷!#REF!) -> #REF! | M10: 6.6 | N10: 2.8 | O10: 2.4 | P10: 2.6 | Q10: =M10*70+N10*75+O10*25+P10*45 -> 849
B12: 45901 | C12: 一 | D12: 白飯 | E12: 素魚排 | F12: 腰果干丁 | G12: 桑耳黃瓜 | H12: 香菇玉筍 | I12: 蒸南瓜 | J12: 履歷蔬菜 | K12: 金針湯 | M12: 6.5 | N12: 2.8 | O12: 2.1 | P12: 2.8 | Q12: =M12*70+N12*75+O12*25+P12*45 -> 843.5
E13: 燒:素魚排 | F13: 炒:豆干.毛豆Q.腰果 | G13: 炒:大黃瓜Q.紅蘿蔔Q.木耳Q | H13: 炒:玉米筍Q.香菇Q | I13: 蒸:南瓜Q | K13: 乾金針.金針菇Q
B14: 45902 | C14: 二 | D14: 麥片飯 | E14: 豆酥煨豆腐 | F14: 紅絲甜薯 | G14: 鮮菇高麗 | H14: 芹香素肚 | I14: 豆豉炒椒 | J14: 有機蔬菜 | K14: 蘿蔔丸子湯 | M14: 6.7 | N14: 2.8 | O14: 2.1 | P14: 2.8 | Q14: =M14*70+N14*75+O14*25+P14*45 -> 857.5
E15: 煮:豆腐 | F15: 炒:紅蘿蔔Q.豆薯Q | G15: 煮:高麗菜Q.菇Q | H15: 炒：素肚.芹Q | I15: 炒:青椒Q.豆豉 | K15: 白蘿蔔Q.素丸子Q.芹Q
B16: 45903 | C16: 三 | D16: 香椿 素炒飯 | E16: 紅燒豆包 | F16: 香菇白菜 | G16: 醬燒蘿蔔糕 | H16: 炒地瓜葉 | I16: 脆炒佛手瓜 | J16: 季節蔬菜 | K16: 綠豆小薏仁 | M16: 6.7 | N16: 2.7 | O16: 2.2 | P16: 2.7 | Q16: =M16*70+N16*75+O16*25+P16*45 -> 848
E17: 燒:豆包 | F17: 燒:大白菜Q.紅蘿蔔Q.乾香菇 | G17: 燒:蘿蔔糕 | H17: 炒：地瓜葉T | I17: 炒：佛手瓜Q.木耳Q.紅蘿蔔Q | K17: 綠豆.小薏仁.QQ
B18: 45904 | C18: 四 | D18: 白飯 | E18: 香滷油腐 | F18: 彩蔬敏豆 | G18: 蔬菜冬粉 | H18: 嫩炒萵苣 | I18: 古早味酸菜 | J18: 有機蔬菜 | K18: 豆腐味噌湯 | M18: 6.8 | N18: 2.8 | O18: 2.1 | P18: 2.7 | Q18: =M18*70+N18*75+O18*25+P18*45 -> 860
E19: 滷:豆腐 | F19: 炒:敏豆Q.甜椒Q | G19: 炒:冬粉.高麗菜Q.木耳Q.紅蘿蔔Q | H19: 炒：萵苣Q.紅蘿蔔Q | I19: 炒:酸菜 | K19: 豆腐.味噌
B20: 45905 | C20: 五 | D20: 紫米飯 | E20: 手工蔬菜餅 | F20: 海帶干絲 | G20: 冬瓜麵筋 | H20: 油揚青江菜 | I20: 雙色山藥 | J20: 有機蔬菜 | K20: 玉米鮮菇湯 | M20: 6.8 | N20: 2.7 | O20: 2.2 | P20: 2.8 | Q20: =M20*70+N20*75+O20*25+P20*45 -> 859.5
E21: 炸:地瓜T.芋頭Q.芹Q.紅蘿蔔Q.芝麻 | F21: 炒:白干絲.海帶絲 | G21: 煮:冬瓜Q.麵筋泡.水煮花生 | H21: 炒:青江菜T.豆皮 | I21: 燒：白.紫山藥Q | K21: 玉米Q.紅蘿蔔Q.菇Q
B22: 45908 | C22: 一 | D22: 小米飯 | E22: 黑胡椒花干 | F22: 豆醬豆腐 | G22: 芋香白菜 | H22: 紅絲敏豆 | I22: 醬燒珍珠瓜 | J22: 履歷蔬菜 | K22: 番茄黃芽湯 | M22: 6.7 | N22: 2.8 | O22: 2.1 | P22: 2.8 | Q22: =M22*70+N22*75+O22*25+P22*45 -> 857.5
E23: 炒:蘭花干 | F23: 炒:豆腐.菇Q | G23: 炒:大白菜Q.紅蘿蔔Q.芋頭Q.木耳Q | H23: 炒：敏豆Q.紅蘿蔔Q | I23: 燒:珍珠瓜 | K23: 黃豆芽Q.番茄Q
B24: 45909 | C24: 二 | D24: 白飯 | E24: 銀羅滷豆干 | F24: 椰香咖哩 | G24: 素炒筍片 | H24: 蕈菇彩椒 | I24: 玉米餅 | J24: 有機蔬菜 | K24: 海芽豆腐湯 | M24: 6.8 | N24: 2.8 | O24: 2.1 | P24: 2.7 | Q24: =M24*70+N24*75+O24*25+P24*45 -> 860
E25: 滷:白蘿蔔Q.豆干 | F25: 煮:洋芋Q.紅蘿蔔Q | G25: 炒:筍.紅蘿蔔Q | H25: 炒:菇Q.彩椒Q | I25: 烤：玉米餅S | K25: 海帶芽.豆腐
B26: 45910 | C26: 三 | D26: 白醬 蕈菇麵 | E26: 豆腐丸子 | F26: 黃金薯條 | G26: 素炒花椰菜 | H26: 醬燒茄子 | I26: 酸心麵腸 | J26: 季節蔬菜 | K26: 冬瓜山粉圓 | M26: 6.9 | N26: 2.7 | O26: 2 | P26: 2.7 | Q26: =M26*70+N26*75+O26*25+P26*45 -> 857
E27: 炸:豆腐.玉米粒.紅蘿蔔Q.芹菜Q | F27: 烤:地瓜薯條Q | G27: 炒:花椰菜Q.紅蘿蔔Q | H27: 燒：茄子 | I27: 炒：麵腸.酸菜心.薑絲 | K27: 山粉圓.粉條.冬瓜糖
B28: 45911 | C28: 四 | D28: 白飯 | E28: 糖醋豆腸 | F28: 玉米炒毛豆 | G28: 小瓜炒耳 | H28: 塔香寬粉 | I28: 雲耳扁蒲 | J28: 有機蔬菜 | K28: 蔬菜湯 | M28: 6.6 | N28: 2.8 | O28: 2 | P28: 2.7 | Q28: =M28*70+N28*75+O28*25+P28*45 -> 843.5
E29: 燒:豆腸.番茄 | F29: 炒:玉米Q.洋芋Q.毛豆Q.紅蘿蔔Q | G29: 炒:小黃瓜Q.木耳Q | H29: 燒：寬冬粉.高麗菜Q.菇.紅蘿蔔Q | I29: 炒:蒲瓜Q.木耳Q | K29: 高麗菜Q.香菇Q
B30: 45912 | C30: 五 | D30: 五穀飯 | E30: 塔香黑干 | F30: 番茄豆包 | G30: 枸杞絲瓜 | H30: 清炒涼薯 | I30: 辣炒菜脯 | J30: 有機蔬菜 | K30: 南瓜濃湯 | M30: 6.8 | N30: 2.8 | O30: 2.1 | P30: 2.9 | Q30: =M30*70+N30*75+O30*25+P30*45 -> 869
E31: 炒:黑豆干.九層塔 | F31: 炒:豆包.番茄Q | G31: 炒:絲瓜Q.枸杞 | H31: 炒:豆薯Q.紅蘿蔔Q.木耳Q | I31: 炒：碎脯.辣椒片 | K31: 南瓜Q.玉米Q.芹Q
B32: 45915 | C32: 一 | D32: 白飯 | E32: 花生滷豆包 | F32: 干片小炒 | G32: 鐵板豆芽 | H32: 青江炒菇 | I32: 佃煮南瓜 | J32: 履歷蔬菜 | K32: 黃瓜湯 | M32: 6.7 | N32: 2.8 | O32: 2.1 | P32: 2.8 | Q32: =M32*70+N32*75+O32*25+P32*45 -> 857.5
E33: 滷:豆包.花生 | F33: 炒:豆干片.芹Q.杏鮑菇Q | G33: 炒:綠豆芽Q.紅蘿蔔Q | H33: 煮：青江菜T.菇Q | I33: 煮：南瓜Q.枸杞 | K33: 大黃瓜Q.菇Q
B34: 45916 | C34: 二 | D34: 糙米飯 | E34: 三杯油腐 | F34: 煨冬瓜 | G34: 芝香敏豆 | H34: 醬燒茄子 | I34: 牛蒡丸子 | J34: 有機蔬菜 | K34: 酸辣湯 | M34: 6.6 | N34: 2.8 | O34: 2.2 | P34: 2.9 | Q34: =M34*70+N34*75+O34*25+P34*45 -> 857.5
E35: 炸.燒:油豆腐.九層塔 | F35: 炒:冬瓜Q.紅蘿蔔Q.乾香菇 | G35: 炒:敏豆Q.紅蘿蔔Q.芝麻 | H35: 燒:茄子Q | I35: 炸:牛蒡Q.紅蘿蔔Q | K35: 筍絲.木耳Q.紅蘿蔔Q.豆腐
B36: 45917 | C36: 三 | D36: 素燥飯 | E36: 薑絲麵腸 | F36: 三色燴豆腐 | G36: 絲瓜金針菇 | H36: 炸地瓜條 | I36: 毛豆小油泡 | J36: 季節蔬菜 | K36: 芋香西米露 | M36: 6.7 | N36: 2.7 | O36: 2.1 | P36: 2.9 | Q36: =M36*70+N36*75+O36*25+P36*45 -> 854.5
E37: 燒:麵腸 | F37: 燴:豆腐.三色S | G37: 炒:絲瓜Q.紅蘿蔔Q.金針菇Q | H37: 炸：地瓜Q | I37: 煮:毛豆Q.小油泡 | K37: 芋頭Q.西谷米
B38: 45918 | C38: 四 | D38: 紅藜飯 | E38: 沙鍋豆干 | F38: 清甜炒玉米 | G38: 清炒高麗 | H38: 古早味苦瓜 | I38: 義式夏南瓜 | J38: 有機蔬菜 | K38: 海結豆芽湯 | M38: 6.7 | N38: 2.7 | O38: 2.1 | P38: 2.8 | Q38: =M38*70+N38*75+O38*25+P38*45 -> 850
E39: 煮:豆干 | F39: 炒:玉米Q.菇Q.毛豆Q | G39: 炒:高麗菜Q.木耳Q | H39: 燒:苦瓜Q | I39: 炒:櫛瓜Q.彩椒Q | K39: 海帶結.黃豆芽Q
B40: 45919 | C40: 五 | D40: 白飯 | E40: 當歸凍豆腐 | F40: 關東煮 | G40: 椒香洋芋絲 | H40: 芝麻香萵苣 | I40: 紅油筍干 | J40: 有機蔬菜 | K40: 菇菇味噌湯 | M40: 6.8 | N40: 2.8 | O40: 2 | P40: 2.7 | Q40: =M40*70+N40*75+O40*25+P40*45 -> 857.5
E41: 煮:凍豆腐.杏鮑菇Q.枸杞 | F41: 煮:白蘿蔔Q.油豆腐.蒟蒻 | G41: 炒:洋芋Q.紅蘿蔔Q.黑胡椒 | H41: 炒：萵苣Q.芝麻 | I41: 燒：筍干 | K41: 高麗菜Q.金針菇Q.味噌
B42: 45922 | C42: 一 | D42: 玉米飯 | E42: 五味嫩油腐 | F42: 清炒佛手瓜 | G42: 香芹拌干絲 | H42: 辣味筍乾 | I42: 腰果彩椒 | J42: 履歷蔬菜 | K42: 香菇豆腐羹 | M42: 6.5 | N42: 2.8 | O42: 2.1 | P42: 2.6 | Q42: =M42*70+N42*75+O42*25+P42*45 -> 834.5
E43: 滷:油豆腐.香菜 | F43: 炒:佛手瓜Q.木耳Q | G43: 炒:白干絲.芹Q.紅蘿蔔Q | H43: 滷:筍乾 | I43: 炒:彩椒Q.腰果片 | K43: 豆腐.香菇Q.紅蘿蔔Q
B44: 45923 | C44: 二 | D44: 白飯 | E44: 豉汁豆腐 | F44: 鮮菇白菜 | G44: 咖哩粉絲煲 | H44: 炒地瓜葉 | I44: 薑絲炒耳 | J44: 有機蔬菜 | K44: 藥膳湯 | M44: 6.9 | N44: 2.7 | O44: 2.1 | P44: 2.7 | Q44: =M44*70+N44*75+O44*25+P44*45 -> 859.5
E45: 煮:豆腐.芹菜Q | F45: 炒:大白菜Q.菇Q.紅蘿蔔Q | G45: 炒:冬粉.高麗菜Q | H45: 炒：地瓜葉Q | I45: 炒:木耳Q | K45: 白蘿蔔Q.高麗菜Q
...

Sheet 福豐校審葷
B1: 沅益食品美味午餐 | G1: 福豐國中
G2: 114年9月菜單 | H2: 供餐年級: 年級
B3: 日期 | C3: 星期 | D3: 主食 | E3: 主菜 | F3: 美味副菜 | H3: 蔬菜 | I3: 湯品 | J3: 附餐 | K3: 全榖雜糧 | L3: 豆魚蛋肉 | M3: 蔬菜類 | N3: 油脂類 | O3: 熱量
B4: 45901 | C4: 一 | D4: 白飯 | E4: 蒙古烤肉 | F4: 腰果干丁 | G4: 桑耳黃瓜 | H4: 履歷蔬菜 | I4: 金針肉絲湯 | K4: 6.5 | L4: 2.8 | M4: 2.1 | N4: 2.8 | O4: =K4*70+L4*75+M4*25+N4*45 -> 843.5
E5: 炒:肉片S.洋蔥Q.綠豆芽Q | F5: 炒:豆干.毛豆Q.腰果 | G5: 炒:大黃瓜Q.紅蘿蔔Q.木耳Q | I5: 乾金針.金針菇Q.肉絲S
B6: 45902 | C6: 二 | D6: 麥片飯 | E6: 醬燒魚丁 | F6: 紅絲炒蛋 | G6: 肉燥淋高麗 | H6: 有機蔬菜 | I6: 蘿蔔丸子湯 | K6: 6.7 | L6: 2.8 | M6: 2.1 | N6: 2.8 | O6: =K6*70+L6*75+M6*25+N6*45 -> 857.5
E7: 煮:鯊魚丁Q.豆腐.甜椒Q | F7: 炒:紅蘿蔔Q.蛋Q.洋蔥Q | G7: 煮:高麗菜Q.絞肉S | I7: 白蘿蔔Q.丸子Q.芹Q
B8: 45903 | C8: 三 | D8: 香蔥 蛋炒飯 | E8: 炸鹹酥雞 | F8: 西魯肉 | G8: 蒜泥素雞 | H8: 季節蔬菜 | I8: 綠豆小薏仁 | K8: 6.7 | L8: 2.7 | M8: 2.2 | N8: 2.7 | O8: =K8*70+L8*75+M8*25+N8*45 -> 848
E9: 炸:雞肉T | F9: 燒:大白菜Q.紅蘿蔔Q.肉絲S.蝦米.乾香菇 | G9: 燒:素雞 | I9: 綠豆.小薏仁.QQ
B10: 45904 | C10: 四 | D10: 白飯 | E10: 日式燉肉 | F10: 敏豆肉絲 | G10: 肉末冬粉 | H10: 有機蔬菜 | I10: 小魚豆腐湯 | K10: 6.8 | L10: 2.8 | M10: 2.1 | N10: 2.7 | O10: =K10*70+L10*75+M10*25+N10*45 -> 860
E11: 燉:肉丁S.洋芋Q.紅蘿蔔Q | F11: 炒:敏豆Q.肉絲S.甜椒Q | G11: 炒:冬粉.高麗菜Q.木耳Q.紅蘿蔔Q.絞肉S | I11: 豆腐.小魚干.味噌
B12: 45905 | C12: 五 | D12: 紫米飯 | E12: 塔香雞丁 | F12: 海帶干絲 | G12: 冬瓜麵筋 | H12: 有機蔬菜 | I12: 玉米蛋花湯 | K12: 6.8 | L12: 2.7 | M12: 2.2 | N12: 2.8 | O12: =K12*70+L12*75+M12*25+N12*45 -> 859.5
E13: 燒:雞丁S.麵腸.九層塔 | F13: 炒:白干絲.海帶絲.紅蘿蔔Q | G13: 煮:冬瓜Q.麵筋泡.水煮花生 | I13: 玉米Q.蛋Q.紅蘿蔔Q
B14: 45908 | C14: 一 | D14: 小米飯 | E14: 黑胡椒肉片 | F14: 麻婆豆腐 | G14: 芋香白菜 | H14: 履歷蔬菜 | I14: 黃芽肉絲湯 | K14: 6.7 | L14: 2.8 | M14: 2.1 | N14: 2.8 | O14: =K14*70+L14*75+M14*25+N14*45 -> 857.5
E15: 炒:肉片S.洋蔥Q.紅蘿蔔Q | F15: 炒:豆腐.絞肉S | G15: 炒:大白菜Q.木耳Q.紅蘿蔔Q.芋頭Q | I15: 黃豆芽Q.肉絲Q.紅蘿蔔Q
B16: 45909 | C16: 二 | D16: 白飯 | E16: 椰香咖哩魚 | F16: 筍炒肉片 | G16: 銀羅滷豆干 | H16: 有機蔬菜 | I16: 海芽蛋花湯 | K16: 6.7 | L16: 2.8 | M16: 2.1 | N16: 2.8 | O16: =K16*70+L16*75+M16*25+N16*45 -> 857.5
E17: 煮:鯰魚丁Q.洋芋Q.紅蘿蔔Q.洋蔥Q | F17: 炒:筍.肉片S.紅蘿蔔Q | G17: 滷:白蘿蔔Q.豆干 | I17: 海帶芽.蛋Q
B18: 45910 | C18: 三 | D18: 白醬 蕈菇義麵 | E18: 香草雞腿排 | F18: 香Q芋泥包 | G18: 蒜香花椰菜 | H18: 季節蔬菜 | I18: 冬瓜山粉圓 | K18: 6.9 | L18: 2.7 | M18: 2 | N18: 2.7 | O18: =K18*70+L18*75+M18*25+N18*45 -> 857
E19: 滷:雞排S | F19: 蒸:芋泥包S | G19: 炒:花椰菜Q.紅蘿蔔Q | I19: 山粉圓.粉條.冬瓜糖
B20: 45911 | C20: 四 | D20: 白飯 | E20: 糖醋排骨 | F20: 珍珠洋芋 | G20: 椒鹽甜不辣 | H20: 有機蔬菜 | I20: 蔬菜肉片湯 | K20: 6.6 | L20: 2.8 | M20: 2 | N20: 2.7 | O20: =K20*70+L20*75+M20*25+N20*45 -> 843.5
E21: 炸.燒:肉丁S.排骨丁S.洋蔥Q | F21: 炒:玉米Q.洋芋Q.紅蘿蔔Q.毛豆Q | G21: 炒:甜不辣Q.芹Q | I21: 高麗菜Q.香菇Q.肉片S
B22: 45912 | C22: 五 | D22: 五穀飯 | E22: 三杯雞 | F22: 番茄炒蛋 | G22: 清炒甜薯 | H22: 有機蔬菜 | I22: 南瓜濃湯 | K22: 6.8 | L22: 2.7 | M22: 2.1 | N22: 2.8 | O22: =K22*70+L22*75+M22*25+N22*45 -> 857
E23: 炒:雞丁S.米血糕S.九層塔 | F23: 炒:番茄Q.蛋Q.洋蔥Q | G23: 炒:涼薯Q.紅蘿蔔Q.木耳Q | I23: 南瓜Q.玉米Q.洋蔥Q
B24: 45915 | C24: 一 | D24: 白飯 | E24: 蔥油手絲雞 | F24: 客家小炒 | G24: 鐵板豆芽 | H24: 履歷蔬菜 | I24: 黃瓜肉片湯 | K24: 6.7 | L24: 2.8 | M24: 2.1 | N24: 2.8 | O24: =K24*70+L24*75+M24*25+N24*45 -> 857.5
E25: 炒:雞肉T | F25: 炒:豆干片.芹Q.肉絲S | G25: 炒:綠豆芽Q.韭菜Q.紅蘿蔔Q | I25: 大黃瓜Q.肉片S
B26: 45916 | C26: 二 | D26: 糙米飯 | E26: 百香果肉丁 | F26: 冬瓜肉燥 | G26: 芝香敏豆 | H26: 有機蔬菜 | I26: 酸辣湯 | K26: 6.6 | L26: 2.8 | M26: 2.2 | N26: 2.9 | O26: =K26*70+L26*75+M26*25+N26*45 -> 857.5
E27: 燒:肉丁S.洋蔥Q.甜椒Q | F27: 炒:冬瓜Q.絞肉S | G27: 炒:敏豆Q.紅蘿蔔Q.芝麻 | I27: 筍絲.木耳Q.紅蘿蔔Q.豆腐.肉絲S
B28: 45917 | C28: 三 | D28: 古早味 肉燥飯 | E28: 紅燒雞翅 | F28: 三色燴海鮮卷 | G28: 鮮肉絲瓜 | H28: 季節蔬菜 | I28: 芋香西米露 | K28: 6.7 | L28: 2.7 | M28: 2.1 | N28: 2.9 | O28: =K28*70+L28*75+M28*25+N28*45 -> 854.5
E29: 滷:雞翅S | F29: 燴:海鮮卷S.三色S.蛋Q | G29: 炒:絲瓜Q.肉片S.紅蘿蔔Q | I29: 芋頭Q.西谷米.奶粉
B30: 45918 | C30: 四 | D30: 紅藜飯 | E30: 砂鍋魚丁 | F30: 甜玉米炒蛋 | G30: 清炒高麗 | H30: 有機蔬菜 | I30: 海結肉絲湯 | K30: 6.7 | L30: 2.7 | M30: 2.1 | N30: 2.8 | O30: =K30*70+L30*75+M30*25+N30*45 -> 850
E31: 煮:鯊魚丁Q.大白菜Q.紅蘿蔔Q.豆皮 | F31: 炒:玉米Q.洋蔥Q.蛋Q | G31: 炒:高麗菜Q.木耳Q | I31: 海帶結.肉絲S
B32: 45919 | C32: 五 | D32: 白飯 | E32: 花雕雞 | F32: 關東煮 | G32: 椒香洋芋絲 | H32: 有機蔬菜 | I32: 味噌湯 | K32: 6.8 | L32: 2.8 | M32: 2 | N32: 2.7 | O32: =K32*70+L32*75+M32*25+N32*45 -> 857.5
E33: 煮:雞丁S.杏鮑菇Q.枸杞 | F33: 煮:白蘿蔔Q.油豆腐.黑輪Q | G33: 炒:洋芋Q.肉絲S.紅蘿蔔Q.黑胡椒 | I33: 高麗菜Q.蛋Q.味噌
B34: 45922 | C34: 一 | D34: 玉米飯 | E34: 筍干焢肉 | F34: 香芹拌干絲 | G34: 開陽佛手瓜 | H34: 履歷蔬菜 | I34: 香菇豆腐羹 | K34: 6.5 | L34: 2.8 | M34: 2.1 | N34: 2.6 | O34: =K34*70+L34*75+M34*25+N34*45 -> 834.5
E35: 滷:肉丁S.豬腳丁Q.筍干 | F35: 炒:白干絲.芹Q.紅蘿蔔Q | G35: 炒:佛手瓜Q.木耳Q.蝦米 | I35: 豆腐.肉絲S.香菇Q.紅蘿蔔Q
B36: 45923 | C36: 二 | D36: 白飯 | E36: 洋芋嫩雞 | F36: 咖哩粉絲煲 | G36: 鮮菇白菜 | H36: 有機蔬菜 | I36: 肉骨茶湯 | K36: 6.9 | L36: 2.7 | M36: 2.1 | N36: 2.7 | O36: =K36*70+L36*75+M36*25+N36*45 -> 859.5
E37: 燉:雞丁S.洋芋Q.紅蘿蔔Q | F37: 炒:冬粉.絞肉S.高麗菜Q.洋蔥Q | G37: 炒:大白菜Q.菇Q.紅蘿蔔Q | I37: 白蘿蔔Q.肉片S.蒜仁
B38: 45924 | C38: 三 | D38: 日式 炒烏龍 | E38: 秘醬豬排 | F38: 炸雞塊X2 | G38: 肉絲黃芽 | H38: 季節蔬菜 | I38: 紅豆芋圓湯 | K38: 6.9 | L38: 2.6 | M38: 2.1 | N38: 2.8 | O38: =K38*70+L38*75+M38*25+N38*45 -> 856.5
E39: 燒:豬排S | F39: 炸:雞塊S | G39: 炒:黃豆芽Q.肉絲S.木耳Q.紅蘿蔔Q | I39: 紅豆T.芋圓
B40: 45925 | C40: 四 | D40: 燕麥飯 | E40: 香滷雞腿 | F40: 香蔥菜脯蛋 | G40: 什錦大瓜 | H40: 有機蔬菜 | I40: 海帶豆腐湯 | K40: 6.7 | L40: 2.7 | M40: 2 | N40: 2.7 | O40: =K40*70+L40*75+M40*25+N40*45 -> 843
...

Sheet 福豐校審素
B1: 沅益食品美味午餐 | H1: 福豐國中114年8-9月素菜單
B3: 日期 | C3: 星期 | D3: 主食 | E3: 主菜 | F3: 美味副菜 | J3: 蔬菜 | K3: 湯品 | L3: 附餐 | M3: 全榖雜糧 | N3: 豆魚蛋肉 | O3: 蔬菜類 | P3: 油脂類 | Q3: 熱量
B4: =_xlfn.SINGLE(福豐校審葷!#REF!) -> #REF! | C4: =_xlfn.SINGLE(福豐校審葷!#REF!) -> #REF! | J4: =_xlfn.SINGLE(福豐校審葷!#REF!) -> #REF! | M4: 6.6 | N4: 2.8 | O4: 2.4 | P4: 2.6 | Q4: =M4*70+N4*75+O4*25+P4*45 -> 849
B6: =_xlfn.SINGLE(福豐校審葷!#REF!) -> #REF! | C6: =_xlfn.SINGLE(福豐校審葷!#REF!) -> #REF! | J6: =_xlfn.SINGLE(福豐校審葷!#REF!) -> #REF! | M6: 6.6 | N6: 2.8 | O6: 2.4 | P6: 2.6 | Q6: =M6*70+N6*75+O6*25+P6*45 -> 849
B8: =_xlfn.SINGLE(福豐校審葷!#REF!) -> #REF! | C8: =_xlfn.SINGLE(福豐校審葷!#REF!) -> #REF! | J8: =_xlfn.SINGLE(福豐校審葷!#REF!) -> #REF! | M8: 6.6 | N8: 2.8 | O8: 2.4 | P8: 2.6 | Q8: =M8*70+N8*75+O8*25+P8*45 -> 849
B10: =_xlfn.SINGLE(福豐校審葷!#REF!) -> #REF! | C10: =_xlfn.SINGLE(福豐校審葷!#REF!) -> #REF! | J10: =_xlfn.SINGLE(福豐校審葷!#REF!) -> #REF! | M10: 6.6 | N10: 2.8 | O10: 2.4 | P10: 2.6 | Q10: =M10*70+N10*75+O10*25+P10*45 -> 849
B12: 45901 | C12: 一 | D12: 白飯 | E12: 素魚排 | F12: 腰果干丁 | G12: 桑耳黃瓜 | H12: 香菇玉筍 | I12: 蒸南瓜 | J12: 履歷蔬菜 | K12: 金針湯 | M12: 6.5 | N12: 2.8 | O12: 2.1 | P12: 2.8 | Q12: =M12*70+N12*75+O12*25+P12*45 -> 843.5
E13: 燒:素魚排 | F13: 炒:豆干.毛豆Q.腰果 | G13: 炒:大黃瓜Q.紅蘿蔔Q.木耳Q | H13: 炒:玉米筍Q.香菇Q | I13: 蒸:南瓜Q | K13: 乾金針.金針菇Q
B14: 45902 | C14: 二 | D14: 麥片飯 | E14: 豆酥煨豆腐 | F14: 紅絲甜薯 | G14: 鮮菇高麗 | H14: 芹香素肚 | I14: 豆豉炒椒 | J14: 有機蔬菜 | K14: 蘿蔔丸子湯 | M14: 6.7 | N14: 2.8 | O14: 2.1 | P14: 2.8 | Q14: =M14*70+N14*75+O14*25+P14*45 -> 857.5
E15: 煮:豆腐 | F15: 炒:紅蘿蔔Q.豆薯Q | G15: 煮:高麗菜Q.菇Q | H15: 炒：素肚.芹Q | I15: 炒:青椒Q.豆豉 | K15: 白蘿蔔Q.素丸子Q.芹Q
B16: 45903 | C16: 三 | D16: 香椿 素炒飯 | E16: 紅燒豆包 | F16: 香菇白菜 | G16: 醬燒蘿蔔糕 | H16: 炒地瓜葉 | I16: 脆炒佛手瓜 | J16: 季節蔬菜 | K16: 綠豆小薏仁 | M16: 6.7 | N16: 2.7 | O16: 2.2 | P16: 2.7 | Q16: =M16*70+N16*75+O16*25+P16*45 -> 848
E17: 燒:豆包 | F17: 燒:大白菜Q.紅蘿蔔Q.乾香菇 | G17: 燒:蘿蔔糕 | H17: 炒：地瓜葉T | I17: 炒：佛手瓜Q.木耳Q.紅蘿蔔Q | K17: 綠豆.小薏仁.QQ
B18: 45904 | C18: 四 | D18: 白飯 | E18: 香滷油腐 | F18: 彩蔬敏豆 | G18: 蔬菜冬粉 | H18: 嫩炒萵苣 | I18: 古早味酸菜 | J18: 有機蔬菜 | K18: 豆腐味噌湯 | M18: 6.8 | N18: 2.8 | O18: 2.1 | P18: 2.7 | Q18: =M18*70+N18*75+O18*25+P18*45 -> 860
E19: 滷:豆腐 | F19: 炒:敏豆Q.甜椒Q | G19: 炒:冬粉.高麗菜Q.木耳Q.紅蘿蔔Q | H19: 炒：萵苣Q.紅蘿蔔Q | I19: 炒:酸菜 | K19: 豆腐.味噌
B20: 45905 | C20: 五 | D20: 紫米飯 | E20: 手工蔬菜餅 | F20: 海帶干絲 | G20: 冬瓜麵筋 | H20: 油揚青江菜 | I20: 雙色山藥 | J20: 有機蔬菜 | K20: 玉米鮮菇湯 | M20: 6.8 | N20: 2.7 | O20: 2.2 | P20: 2.8 | Q20: =M20*70+N20*75+O20*25+P20*45 -> 859.5
E21: 炸:地瓜T.芋頭Q.芹Q.紅蘿蔔Q.芝麻 | F21: 炒:白干絲.海帶絲 | G21: 煮:冬瓜Q.麵筋泡.水煮花生 | H21: 炒:青江菜T.豆皮 | I21: 燒：白.紫山藥Q | K21: 玉米Q.紅蘿蔔Q.菇Q
B22: 45908 | C22: 一 | D22: 小米飯 | E22: 黑胡椒花干 | F22: 豆醬豆腐 | G22: 芋香白菜 | H22: 紅絲敏豆 | I22: 醬燒珍珠瓜 | J22: 履歷蔬菜 | K22: 番茄黃芽湯 | M22: 6.7 | N22: 2.8 | O22: 2.1 | P22: 2.8 | Q22: =M22*70+N22*75+O22*25+P22*45 -> 857.5
E23: 炒:蘭花干 | F23: 炒:豆腐.菇Q | G23: 炒:大白菜Q.紅蘿蔔Q.芋頭Q.木耳Q | H23: 炒：敏豆Q.紅蘿蔔Q | I23: 燒:珍珠瓜 | K23: 黃豆芽Q.番茄Q
B24: 45909 | C24: 二 | D24: 白飯 | E24: 銀羅滷豆干 | F24: 椰香咖哩 | G24: 素炒筍片 | H24: 蕈菇彩椒 | I24: 玉米餅 | J24: 有機蔬菜 | K24: 海芽豆腐湯 | M24: 6.8 | N24: 2.8 | O24: 2.1 | P24: 2.7 | Q24: =M24*70+N24*75+O24*25+P24*45 -> 860
E25: 滷:白蘿蔔Q.豆干 | F25: 煮:洋芋Q.紅蘿蔔Q | G25: 炒:筍.紅蘿蔔Q | H25: 炒:菇Q.彩椒Q | I25: 烤：玉米餅S | K25: 海帶芽.豆腐
B26: 45910 | C26: 三 | D26: 白醬 蕈菇麵 | E26: 豆腐丸子 | F26: 黃金薯條 | G26: 素炒花椰菜 | H26: 醬燒茄子 | I26: 酸心麵腸 | J26: 季節蔬菜 | K26: 冬瓜山粉圓 | M26: 6.9 | N26: 2.7 | O26: 2 | P26: 2.7 | Q26: =M26*70+N26*75+O26*25+P26*45 -> 857
E27: 炸:豆腐.玉米粒.紅蘿蔔Q.芹菜Q | F27: 烤:地瓜薯條Q | G27: 炒:花椰菜Q.紅蘿蔔Q | H27: 燒：茄子 | I27: 炒：麵腸.酸菜心.薑絲 | K27: 山粉圓.粉條.冬瓜糖
B28: 45911 | C28: 四 | D28: 白飯 | E28: 糖醋豆腸 | F28: 玉米炒毛豆 | G28: 小瓜炒耳 | H28: 塔香寬粉 | I28: 雲耳扁蒲 | J28: 有機蔬菜 | K28: 蔬菜湯 | M28: 6.6 | N28: 2.8 | O28: 2 | P28: 2.7 | Q28: =M28*70+N28*75+O28*25+P28*45 -> 843.5
E29: 燒:豆腸.番茄 | F29: 炒:玉米Q.洋芋Q.毛豆Q.紅蘿蔔Q | G29: 炒:小黃瓜Q.木耳Q | H29: 燒：寬冬粉.高麗菜Q.菇.紅蘿蔔Q | I29: 炒:蒲瓜Q.木耳Q | K29: 高麗菜Q.香菇Q
B30: 45912 | C30: 五 | D30: 五穀飯 | E30: 塔香黑干 | F30: 番茄豆包 | G30: 枸杞絲瓜 | H30: 清炒涼薯 | I30: 辣炒菜脯 | J30: 有機蔬菜 | K30: 南瓜濃湯 | M30: 6.8 | N30: 2.8 | O30: 2.1 | P30: 2.9 | Q30: =M30*70+N30*75+O30*25+P30*45 -> 869
E31: 炒:黑豆干.九層塔 | F31: 炒:豆包.番茄Q | G31: 炒:絲瓜Q.枸杞 | H31: 炒:豆薯Q.紅蘿蔔Q.木耳Q | I31: 炒：碎脯.辣椒片 | K31: 南瓜Q.玉米Q.芹Q
B32: 45915 | C32: 一 | D32: 白飯 | E32: 花生滷豆包 | F32: 干片小炒 | G32: 鐵板豆芽 | H32: 青江炒菇 | I32: 佃煮南瓜 | J32: 履歷蔬菜 | K32: 黃瓜湯 | M32: 6.7 | N32: 2.8 | O32: 2.1 | P32: 2.8 | Q32: =M32*70+N32*75+O32*25+P32*45 -> 857.5
E33: 滷:豆包.花生 | F33: 炒:豆干片.芹Q.杏鮑菇Q | G33: 炒:綠豆芽Q.紅蘿蔔Q | H33: 煮：青江菜T.菇Q | I33: 煮：南瓜Q.枸杞 | K33: 大黃瓜Q.菇Q
B34: 45916 | C34: 二 | D34: 糙米飯 | E34: 三杯油腐 | F34: 煨冬瓜 | G34: 芝香敏豆 | H34: 醬燒茄子 | I34: 牛蒡丸子 | J34: 有機蔬菜 | K34: 酸辣湯 | M34: 6.6 | N34: 2.8 | O34: 2.2 | P34: 2.9 | Q34: =M34*70+N34*75+O34*25+P34*45 -> 857.5
E35: 炸.燒:油豆腐.九層塔 | F35: 炒:冬瓜Q.紅蘿蔔Q.乾香菇 | G35: 炒:敏豆Q.紅蘿蔔Q.芝麻 | H35: 燒:茄子Q | I35: 炸:牛蒡Q.紅蘿蔔Q | K35: 筍絲.木耳Q.紅蘿蔔Q.豆腐
B36: 45917 | C36: 三 | D36: 素燥飯 | E36: 薑絲麵腸 | F36: 三色燴豆腐 | G36: 絲瓜金針菇 | H36: 炸地瓜條 | I36: 毛豆小油泡 | J36: 季節蔬菜 | K36: 芋香西米露 | M36: 6.7 | N36: 2.7 | O36: 2.1 | P36: 2.9 | Q36: =M36*70+N36*75+O36*25+P36*45 -> 854.5
E37: 燒:麵腸 | F37: 燴:豆腐.三色S | G37: 炒:絲瓜Q.紅蘿蔔Q.金針菇Q | H37: 炸：地瓜Q | I37: 煮:毛豆Q.小油泡 | K37: 芋頭Q.西谷米
B38: 45918 | C38: 四 | D38: 紅藜飯 | E38: 沙鍋豆干 | F38: 清甜炒玉米 | G38: 清炒高麗 | H38: 古早味苦瓜 | I38: 義式夏南瓜 | J38: 有機蔬菜 | K38: 海結豆芽湯 | M38: 6.7 | N38: 2.7 | O38: 2.1 | P38: 2.8 | Q38: =M38*70+N38*75+O38*25+P38*45 -> 850
E39: 煮:豆干 | F39: 炒:玉米Q.菇Q.毛豆Q | G39: 炒:高麗菜Q.木耳Q | H39: 燒:苦瓜Q | I39: 炒:櫛瓜Q.彩椒Q | K39: 海帶結.黃豆芽Q
B40: 45919 | C40: 五 | D40: 白飯 | E40: 當歸凍豆腐 | F40: 關東煮 | G40: 椒香洋芋絲 | H40: 芝麻香萵苣 | I40: 紅油筍干 | J40: 有機蔬菜 | K40: 菇菇味噌湯 | M40: 6.8 | N40: 2.8 | O40: 2 | P40: 2.7 | Q40: =M40*70+N40*75+O40*25+P40*45 -> 857.5
E41: 煮:凍豆腐.杏鮑菇Q.枸杞 | F41: 煮:白蘿蔔Q.油豆腐.蒟蒻 | G41: 炒:洋芋Q.紅蘿蔔Q.黑胡椒 | H41: 炒：萵苣Q.芝麻 | I41: 燒：筍干 | K41: 高麗菜Q.金針菇Q.味噌
B42: 45922 | C42: 一 | D42: 玉米飯 | E42: 五味嫩油腐 | F42: 清炒佛手瓜 | G42: 香芹拌干絲 | H42: 辣味筍乾 | I42: 腰果彩椒 | J42: 履歷蔬菜 | K42: 香菇豆腐羹 | M42: 6.5 | N42: 2.8 | O42: 2.1 | P42: 2.6 | Q42: =M42*70+N42*75+O42*25+P42*45 -> 834.5
E43: 滷:油豆腐.香菜 | F43: 炒:佛手瓜Q.木耳Q | G43: 炒:白干絲.芹Q.紅蘿蔔Q | H43: 滷:筍乾 | I43: 炒:彩椒Q.腰果片 | K43: 豆腐.香菇Q.紅蘿蔔Q
B44: 45923 | C44: 二 | D44: 白飯 | E44: 豉汁豆腐 | F44: 鮮菇白菜 | G44: 咖哩粉絲煲 | H44: 炒地瓜葉 | I44: 薑絲炒耳 | J44: 有機蔬菜 | K44: 藥膳湯 | M44: 6.9 | N44: 2.7 | O44: 2.1 | P44: 2.7 | Q44: =M44*70+N44*75+O44*25+P44*45 -> 859.5
E45: 煮:豆腐.芹菜Q | F45: 炒:大白菜Q.菇Q.紅蘿蔔Q | G45: 炒:冬粉.高麗菜Q | H45: 炒：地瓜葉Q | I45: 炒:木耳Q | K45: 白蘿蔔Q.高麗菜Q
...

Sheet 113.12素食 (舊)
B1: 沅益食品美味午餐 | H1: 公版沅益國中(素食)
I2: 113年12月菜單 | J2: 供餐年級:12年級
B3: 日期 | C3: 星期 | D3: 主食 | E3: 主菜 | F3: 美味副菜 | J3: 蔬菜 | K3: 湯品 | L3: 附餐 | M3: 全榖雜糧 | N3: 豆魚蛋肉 | O3: 蔬菜類 | P3: 油脂類 | Q3: 熱量
B4: =_xlfn.SINGLE(福豐葷!#REF!) -> #REF! | C4: =_xlfn.SINGLE(福豐葷!#REF!) -> #REF! | D4: 白米飯 | E4: 砂鍋豆腐 | F4: 素燥干丁 | G4: 黃瓜總匯 | H4: 白醬洋芋 | I4: 豆豉彩椒 | J4: =_xlfn.SINGLE(福豐葷!#REF!) -> #REF! | K4: 蔬菜味噌湯 | M4: 6.6 | N4: 2.8 | O4: 2.4 | P4: 2.6 | Q4: =M4*70+N4*75+O4*25+P4*45 -> 849
E5: 煮:豆腐.大白菜Q.木耳Q.紅蘿蔔Q | F5: 滷:豆干丁.豆薯Q.香菇Q | G5: 煮:大黃瓜Q.鴻喜菇Q.枸杞 | H5: 煮:洋芋Q.玉米S.紅蘿蔔Q.毛豆T | I5: 炒:彩椒Q.豆豉 | K5: 味噌.高麗菜Q.菇Q.紅蘿蔔Q
B6: =_xlfn.SINGLE(福豐葷!#REF!) -> #REF! | C6: =_xlfn.SINGLE(福豐葷!#REF!) -> #REF! | D6: 五穀飯 | E6: 南洋咖哩豆腸 | F6: 西芹蒟蒻 | G6: 紅絲花椰菜 | H6: 清炒大頭菜 | I6: 蜜汁地瓜 | J6: =_xlfn.SINGLE(福豐葷!#REF!) -> #REF! | K6: 冬瓜薏仁湯 | M6: 6.6 | N6: 2.8 | O6: 2.4 | P6: 2.6 | Q6: =M6*70+N6*75+O6*25+P6*45 -> 849
E7: 煮:豆腸.毛豆Q | F7: 煮:.蒟蒻.西芹Q | G7: 炒:青花菜S.紅蘿蔔Q | H7: 炒:結頭菜Q.紅蘿蔔Q | I7: 燒:地瓜T.芝麻 | K7: 冬瓜Q.小薏仁
B8: =_xlfn.SINGLE(福豐葷!#REF!) -> #REF! | C8: =_xlfn.SINGLE(福豐葷!#REF!) -> #REF! | D8: 香菇 油飯 | E8: 豆腐蔬菜丸子 | F8: 綜合滷味 | G8: 酸菜筍茸 | H8: 樹子苦瓜 | I8: 辣炒菜脯 | J8: =_xlfn.SINGLE(福豐葷!#REF!) -> #REF! | K8: 彩虹玉米湯 | M8: 6.6 | N8: 2.8 | O8: 2.4 | P8: 2.6 | Q8: =M8*70+N8*75+O8*25+P8*45 -> 849
E9: 炸:豆腐.菇Q.紅蘿蔔Q | F9: 滷:白蘿蔔Q.海帶結.腐竹 | G9: 煮:酸菜.筍茸 | H9: 燒:苦瓜Q.樹子 | I9: 炒：碎脯.辣椒片 | K9: 玉米Q.涼薯Q.紅蘿蔔Q
B10: =_xlfn.SINGLE(福豐葷!#REF!) -> #REF! | C10: =_xlfn.SINGLE(福豐葷!#REF!) -> #REF! | D10: 白米飯 | E10: 泡菜年糕豆腐 | F10: 雜菜冬粉 | G10: 豆乳杏菇燒 | H10: 小瓜素雞片 | I10: 和風秋葵 | J10: =_xlfn.SINGLE(福豐葷!#REF!) -> #REF! | K10: 海芽針菇湯 | M10: 6.6 | N10: 2.8 | O10: 2.4 | P10: 2.6 | Q10: =M10*70+N10*75+O10*25+P10*45 -> 849
E11: 煮:豆腐.韓式年糕.韓式泡菜 | F11: 炒:冬粉.紅蘿蔔Q.木耳Q.白芝麻 | G11: 燒：杏鮑菇Q.豆腐乳.芹Q | H11: 炒:小黃瓜Q.素雞 | I11: 煮:秋葵Q | K11: 海帶芽.金針菇Q
B12: =_xlfn.SINGLE(福豐葷!#REF!) -> #REF! | C12: =_xlfn.SINGLE(福豐葷!#REF!) -> #REF! | D12: 糙米飯 | E12: 三杯麵腸 | F12: 田園雙色 | G12: 木耳高麗菜 | H12: 莎莎醬腰花 | I12: 油揚青江菜 | J12: =_xlfn.SINGLE(福豐葷!#REF!) -> #REF! | K12: 芹菜蕈菇湯 | M12: 6.6 | N12: 2.8 | O12: 2.4 | P12: 2.6 | Q12: =M12*70+N12*75+O12*25+P12*45 -> 849
E13: 炒：麵腸.九層塔 | F13: 炒:.紅蘿蔔Q.毛豆Q | G13: 炒:高麗菜Q.木耳Q | H13: 炒:蒟蒻腰花.番茄.香菜 | I13: 炒:青江菜T.豆皮 | K13: 香菇Q.筍.芹菜Q
B14: =福豐葷!B4:B5 -> #VALUE! | C14: =福豐葷!C4:C5 -> #VALUE! | D14: 小米飯 | E14: 醬燒蘭花干 | F14: 栗子南瓜燒 | G14: 鐵板芽菜 | H14: 雲耳扁蒲 | I14: 乾鍋素肚 | J14: =福豐葷!H4:H5 -> #VALUE! | K14: 蘿蔔湯 | M14: 6.6 | N14: 2.8 | O14: 2.4 | P14: 2.6 | Q14: =M14*70+N14*75+O14*25+P14*45 -> 849
E15: 燒:蘭花干 | F15: 煮:南瓜Q.栗子 | G15: 炒:綠豆芽Q.紅蘿蔔Q | H15: 炒:蒲瓜Q.木耳Q | I15: 燒:素肚.香菜 | K15: 白蘿蔔Q.芹菜Q
B16: =福豐葷!B6:B7 -> #VALUE! | C16: =福豐葷!C6:C7 -> #VALUE! | D16: 白米飯 | E16: 香滷素雞片 | F16: 番茄燉洋芋 | G16: 芹香海根 | H16: 蠔油金針菇 | I16: 醬燒珍珠瓜 | J16: =福豐葷!H6:H7 -> #VALUE! | K16: 酸辣湯 | M16: 6.6 | N16: 2.8 | O16: 2.4 | P16: 2.6 | Q16: =M16*70+N16*75+O16*25+P16*45 -> 849
E17: 滷:素雞.香菜 | F17: 炒:番茄Q.洋芋Q | G17: 滷:海帶根.芹菜Q | H17: 炒:金針菇Q.紅蘿蔔Q.木耳Q | I17: 燒:珍珠瓜 | K17: 筍.紅蘿蔔Q.木耳Q.豆腐
B18: =福豐葷!B8:B9 -> #VALUE! | C18: =福豐葷!C8:C9 -> #VALUE! | D18: 五行 拌麵 | E18: 蒲燒素鰻魚 | F18: 海山蘿蔔糕 | G18: 清炒佛手瓜 | H18: 枸杞地瓜葉 | I18: 薄鹽毛豆莢 | J18: =福豐葷!H8:H9 -> #VALUE! | K18: 榨菜粉絲湯 | M18: 6.6 | N18: 2.8 | O18: 2.4 | P18: 2.6 | Q18: =M18*70+N18*75+O18*25+P18*45 -> 849
E19: 燒:海苔.豆包.芝麻 | F19: 蒸:素蘿蔔糕 | G19: 炒:佛手瓜Q.香菇Q.紅蘿蔔Q | H19: 炒:地瓜葉T.枸杞 | I19: 蒸:毛豆莢Q | K19: 榨菜.冬粉.油豆腐絲.芹菜Q
B20: =福豐葷!B10:B11 -> #VALUE! | C20: =福豐葷!C10:C11 -> #VALUE! | D20: 麥片飯 | E20: 蜜汁豆干 | F20: 白果淮山 | G20: 木鬚什錦炒 | H20: 醬燒皇帝豆 | I20: 素肉燥 | J20: =福豐葷!H10:H11 -> #VALUE! | K20: 腰果養生湯 | M20: 6.6 | N20: 2.8 | O20: 2.4 | P20: 2.6 | Q20: =M20*70+N20*75+O20*25+P20*45 -> 849
E21: 滷:豆干 | F21: 燒:山藥Q.白果 | G21: 炒：木耳Q.紅蘿蔔Q.香菇Q.筍 | H21: 燒:皇帝豆Q.蒟蒻 | I21: 滷：梅乾菜.麵腸.乾香菇 | K21: 鴻喜菇Q.紅棗.腰果.牛蒡Q
B22: =福豐葷!B12:B13 -> #VALUE! | C22: =福豐葷!C12:C13 -> #VALUE! | D22: 白米飯 | E22: 五更豆腐旺 | F22: 香菇燉白菜 | G22: 敏豆鮮菇 | H22: 干炒糯米椒 | I22: 紫米糕 | J22: =福豐葷!H12:H13 -> #VALUE! | K22: 海結蔬菜湯 | M22: 6.6 | N22: 2.8 | O22: 2.4 | P22: 2.6 | Q22: =M22*70+N22*75+O22*25+P22*45 -> 849
E23: 煮:豆腐.酸菜.木耳Q | F23: 煮:大白菜Q.香菇Q.紅蘿蔔Q | G23: 炒:敏豆T.鴻喜菇Q | H23: 炒:豆干.糯米椒Q | I23: 炒：紫米糕.香菜 | K23: 海帶結.高麗菜Q
B24: =福豐葷!B14:B15 -> #VALUE! | C24: =福豐葷!C14:C15 -> #VALUE! | D24: 白米飯 | E24: 四喜烤麩 | F24: 客家小炒 | G24: 清炒高麗菜 | H24: 麻油菇菇燒 | I24: 大瓜封 | J24: =福豐葷!H14:H15 -> #VALUE! | K24: 佛手瓜湯 | M24: 6.6 | N24: 2.8 | O24: 2.4 | P24: 2.6 | Q24: =M24*70+N24*75+O24*25+P24*45 -> 849
E25: 煮:烤麩.乾香菇.毛豆Q.筍 | F25: 炒:豆干.蒟蒻.芹Q | G25: 炒:高麗菜Q.紅蘿蔔Q | H25: 燒:杏鮑菇Q.紅棗 | I25: 蒸:大黃瓜Q.豆腐.三色豆S | K25: 佛手瓜Q.紅蘿蔔Q
B26: =福豐葷!B20:B21 -> #VALUE! | C26: =福豐葷!C20:C21 -> #VALUE! | D26: 蕎麥飯 | E26: 塔香豆腸 | F26: 豆薯紅絲 | G26: 小瓜玉筍 | H26: 醬香茄子 | I26: 佃煮南瓜 | J26: =福豐葷!H20:H21 -> #VALUE! | K26: 金針湯 | M26: 6.6 | N26: 2.8 | O26: 2.4 | P26: 2.6 | Q26: =M26*70+N26*75+O26*25+P26*45 -> 849
E27: 燒:豆腸.九層塔 | F27: 炒:紅蘿蔔Q.涼薯Q | G27: 炒:小黃瓜Q.玉米筍Q | H27: 炒:茄子Q.芹Q | I27: 煮：南瓜Q | K27: 金針花.金針菇Q.紅蘿蔔Q
B28: =福豐葷!B18:B19 -> #VALUE! | C28: =福豐葷!C18:C19 -> #VALUE! | D28: 咖哩 炒飯 | E28: 蔬菜豆皮捲 | F28: 海帶三絲 | G28: 素心鍋貼 | H28: 白果香菇燒 | I28: 蠔油萵苣 | J28: =福豐葷!H18:H19 -> #VALUE! | K28: 瓜子素基湯 | M28: 6.6 | N28: 2.8 | O28: 2.4 | P28: 2.6 | Q28: =M28*70+N28*75+O28*25+P28*45 -> 849
E29: 蒸:蔬菜豆皮捲 | F29: 滷:海帶絲.白干絲.紅蘿蔔Q | G29: 炸：素鍋貼 | H29: 燒:菇Q.白果.麵輪 | I29: 炒:萵苣Q | K29: 冬瓜Q.麻油瓜.香菇Q.麵丸
B30: =福豐葷!B16:B17 -> #VALUE! | C30: =福豐葷!C16:C17 -> #VALUE! | D30: 白米飯 | E30: 古早味滷豆包 | F30: 沙茶粉絲 | G30: 清炒筍片 | H30: 清炒大黃瓜 | I30: 牛蒡丸子 | J30: =福豐葷!H16:H17 -> #VALUE! | K30: 日式味噌湯 | M30: 6.6 | N30: 2.8 | O30: 2.4 | P30: 2.6 | Q30: =M30*70+N30*75+O30*25+P30*45 -> 849
E31: 滷:豆包 | F31: 炒:冬粉.高麗菜Q.紅蘿蔔Q | G31: 炒:筍片.香菇Q | H31: 煮:黃瓜Q.木耳Q.菇Q | I31: 炸:牛蒡Q.芝麻 | K31: 味噌.海帶芽.豆腐
B32: =福豐葷!B22:B23 -> #VALUE! | C32: =福豐葷!C22:C23 -> #VALUE! | D32: 燕麥飯 | E32: 糖醋油豆腐 | F32: 關東煮 | G32: 宜蘭西滷菜 | H32: 毛豆小油泡 | I32: 西芹燴彩蔬 | J32: =福豐葷!H22:H23 -> #VALUE! | K32: 客家鹹湯圓 | M32: 6.6 | N32: 2.8 | O32: 2.4 | P32: 2.6 | Q32: =M32*70+N32*75+O32*25+P32*45 -> 849
E33: 燒:油豆腐.芝麻 | F33: 煮:白蘿蔔Q.玉米粒S.香菇Q | G33: 煮:大白菜Q..木耳Q.豆皮.紅蘿蔔Q | H33: 煮:毛豆Q.小油泡 | I33: 炒:西芹Q.彩椒Q | K33: 乾香菇.芹菜Q.湯圓
B34: =福豐葷!B24:B25 -> #VALUE! | C34: =福豐葷!C24:C25 -> #VALUE! | D34: 玉米飯 | E34: 香菇麵腸圈 | F34: 麻婆豆腐 | G34: 醬拌雙芽 | H34: 清炒蓮藕片 | I34: 蜜腰果 | J34: =福豐葷!H24:H25 -> #VALUE! | K34: 羅宋湯 | M34: 6.6 | N34: 2.8 | O34: 2.4 | P34: 2.6 | Q34: =M34*70+N34*75+O34*25+P34*45 -> 849
E35: 煮:麵腸.香菇Q | F35: 煮:豆腐.杏鮑菇Q | G35: 拌:黃豆芽Q.海帶芽.紅甜椒Q | H35: 煮:蓮藕Q.木耳Q | I35: 炒:腰果 | K35: 番茄Q.西芹.義大利香料
B36: =福豐葷!B26:B27 -> #VALUE! | C36: =福豐葷!C26:C27 -> #VALUE! | D36: 白米飯 | E36: 回鍋干片 | F36: 椒鹽地瓜 | G36: 元氣冬瓜燒 | H36: 炒菠菜 | I36: 薑絲木耳 | J36: =福豐葷!H26:H27 -> #VALUE! | K36: 三絲蔬菜湯 | M36: 6.6 | N36: 2.8 | O36: 2.4 | P36: 2.6 | Q36: =M36*70+N36*75+O36*25+P36*45 -> 849
E37: 煮:豆干片.高麗菜Q | F37: 炸:地瓜Q | G37: 燒:冬瓜Q.乾香菇.枸杞 | H37: 炒:菠菜T | I37: 炒:木耳Q | K37: 榨菜絲.紅蘿蔔Q.金針菇Q.木耳Q
B38: =福豐葷!B28:B29 -> #VALUE! | C38: =福豐葷!C28:C29 -> #VALUE! | D38: 蕈菇 螺旋麵 | E38: 和風醬燒豆腸 | F38: 椒香杏鮑菇 | G38: 雙色花椰菜 | H38: 義式夏南瓜 | I38: 爆漿芋泥包 | J38: =福豐葷!H28:H29 -> #VALUE! | K38: 巧達濃湯 | M38: 6.6 | N38: 2.8 | O38: 2.4 | P38: 2.6 | Q38: =M38*70+N38*75+O38*25+P38*45 -> 849
E39: 燒:豆腸.芹Q | F39: 煮:杏鮑菇Q.玉米筍Q.黑胡椒 | G39: 炒:青花菜S.白花菜S.紅蘿蔔Q | H39: 炒:櫛瓜Q.彩椒Q | I39: 蒸：芋泥包S | K39: 玉米Q.洋芋Q.紅蘿蔔Q
B40: =福豐葷!B30:B31 -> #VALUE! | C40: =福豐葷!C30:C31 -> #VALUE! | D40: 薏仁飯 | E40: 泰式腐竹 | F40: 香油拌干絲 | G40: 清炒結頭菜 | H40: 椰香芋頭煲 | I40: 白玉滷 | J40: =福豐葷!H30:H31 -> #VALUE! | K40: 香菇筍片湯 | M40: 6.6 | N40: 2.8 | O40: 2.4 | P40: 2.6 | Q40: =M40*70+N40*75+O40*25+P40*45 -> 849
...
